Package: pcaExplorer Version: 3.1.1 Command: rm -rf pcaExplorer.buildbin-libdir && mkdir pcaExplorer.buildbin-libdir && /Users/biocbuild/BBS/utils/build-universal.sh pcaExplorer_3.1.1.tar.gz /Library/Frameworks/R.framework/Resources/bin/R pcaExplorer.buildbin-libdir StartedAt: 2025-02-10 01:07:49 -0500 (Mon, 10 Feb 2025) EndedAt: 2025-02-10 01:09:09 -0500 (Mon, 10 Feb 2025) EllapsedTime: 79.8 seconds RetCode: 0 Status: OK PackageFile: pcaExplorer_3.1.1.tgz PackageFileSize: 8.344 MiB