Package: pcaExplorer Version: 3.1.1 Command: /Library/Frameworks/R.framework/Resources/bin/R CMD build --keep-empty-dirs --no-resave-data pcaExplorer StartedAt: 2025-02-09 17:54:27 -0500 (Sun, 09 Feb 2025) EndedAt: 2025-02-09 17:57:08 -0500 (Sun, 09 Feb 2025) EllapsedTime: 160.1 seconds RetCode: 0 Status: OK PackageFile: pcaExplorer_3.1.1.tar.gz PackageFileSize: 10.74 MiB