Package: pcaExplorer Version: 3.1.1 Command: /Library/Frameworks/R.framework/Resources/bin/R CMD INSTALL pcaExplorer StartedAt: 2025-02-09 15:38:49 -0500 (Sun, 09 Feb 2025) EndedAt: 2025-02-09 15:40:04 -0500 (Sun, 09 Feb 2025) EllapsedTime: 74.6 seconds RetCode: 0 Status: OK