Package: pcaExplorer Version: 3.1.1 Command: /home/biocbuild/bbs-3.21-bioc/R/bin/R CMD INSTALL pcaExplorer StartedAt: 2025-02-09 15:48:18 -0500 (Sun, 09 Feb 2025) EndedAt: 2025-02-09 15:49:12 -0500 (Sun, 09 Feb 2025) EllapsedTime: 53.6 seconds RetCode: 0 Status: OK