Package: pcaExplorer Version: 3.1.1 Command: rm -rf pcaExplorer.buildbin-libdir && mkdir pcaExplorer.buildbin-libdir && E:\biocbuild\bbs-3.21-bioc\R\bin\R.exe CMD INSTALL --build --library=pcaExplorer.buildbin-libdir pcaExplorer_3.1.1.tar.gz StartedAt: 2025-02-13 08:31:42 -0500 (Thu, 13 Feb 2025) EndedAt: 2025-02-13 08:32:58 -0500 (Thu, 13 Feb 2025) EllapsedTime: 75.7 seconds RetCode: 0 Status: OK PackageFile: pcaExplorer_3.1.1.zip PackageFileSize: 7.156 MiB