Package: pcaExplorer Version: 3.1.1 Command: chmod a+r pcaExplorer -R && E:\biocbuild\bbs-3.21-bioc\R\bin\R.exe CMD build --keep-empty-dirs --no-resave-data pcaExplorer StartedAt: 2025-02-09 20:38:18 -0500 (Sun, 09 Feb 2025) EndedAt: 2025-02-09 20:47:47 -0500 (Sun, 09 Feb 2025) EllapsedTime: 568.4 seconds RetCode: 0 Status: OK PackageFile: pcaExplorer_3.1.1.tar.gz PackageFileSize: 9.547 MiB