Package: pcaExplorer Version: 3.1.1 Command: E:\biocbuild\bbs-3.21-bioc\R\bin\R.exe CMD check --no-multiarch --install=check:pcaExplorer.install-out.txt --library=E:\biocbuild\bbs-3.21-bioc\R\library --no-vignettes --timings pcaExplorer_3.1.1.tar.gz StartedAt: 2025-02-10 03:57:46 -0500 (Mon, 10 Feb 2025) EndedAt: 2025-02-10 04:09:03 -0500 (Mon, 10 Feb 2025) EllapsedTime: 676.6 seconds RetCode: 0 Status: OK CheckDir: pcaExplorer.Rcheck Warnings: 0