Package: pcaExplorer Version: 3.1.1 Command: E:\biocbuild\bbs-3.21-bioc\R\bin\R.exe CMD INSTALL pcaExplorer StartedAt: 2025-02-12 16:47:02 -0500 (Wed, 12 Feb 2025) EndedAt: 2025-02-12 16:48:03 -0500 (Wed, 12 Feb 2025) EllapsedTime: 61.4 seconds RetCode: 0 Status: OK