Package: pcaMethods Version: 1.99.0 Command: rm -rf pcaMethods.buildbin-libdir && mkdir pcaMethods.buildbin-libdir && /Users/biocbuild/BBS/utils/build-universal.sh pcaMethods_1.99.0.tar.gz /Library/Frameworks/R.framework/Resources/bin/R pcaMethods.buildbin-libdir StartedAt: 2025-02-04 22:26:40 -0500 (Tue, 04 Feb 2025) EndedAt: 2025-02-04 22:26:46 -0500 (Tue, 04 Feb 2025) EllapsedTime: 6.1 seconds RetCode: 0 Status: OK PackageFile: pcaMethods_1.99.0.tgz PackageFileSize: 1.439 MiB