Package: pcaMethods Version: 1.99.0 Command: /Library/Frameworks/R.framework/Resources/bin/R CMD build --keep-empty-dirs --no-resave-data pcaMethods StartedAt: 2025-02-04 17:13:48 -0500 (Tue, 04 Feb 2025) EndedAt: 2025-02-04 17:14:41 -0500 (Tue, 04 Feb 2025) EllapsedTime: 52.6 seconds RetCode: 0 Status: OK PackageFile: pcaMethods_1.99.0.tar.gz PackageFileSize: 1016 KiB