Package: pcaMethods Version: 1.99.0 Command: /Library/Frameworks/R.framework/Resources/bin/R CMD check --install=check:pcaMethods.install-out.txt --library=/Library/Frameworks/R.framework/Resources/library --no-vignettes --timings pcaMethods_1.99.0.tar.gz StartedAt: 2025-02-04 20:37:34 -0500 (Tue, 04 Feb 2025) EndedAt: 2025-02-04 20:38:21 -0500 (Tue, 04 Feb 2025) EllapsedTime: 46.5 seconds RetCode: 0 Status: OK CheckDir: pcaMethods.Rcheck Warnings: 0