Package: pcaMethods Version: 1.99.0 Command: /Library/Frameworks/R.framework/Resources/bin/R CMD INSTALL pcaMethods StartedAt: 2025-02-04 15:02:49 -0500 (Tue, 04 Feb 2025) EndedAt: 2025-02-04 15:02:55 -0500 (Tue, 04 Feb 2025) EllapsedTime: 5.6 seconds RetCode: 0 Status: OK