Package: pcaMethods Version: 1.99.0 Command: /home/biocbuild/R/R/bin/R CMD build --keep-empty-dirs --no-resave-data pcaMethods StartedAt: 2025-01-29 01:12:26 -0000 (Wed, 29 Jan 2025) EndedAt: 2025-01-29 01:15:12 -0000 (Wed, 29 Jan 2025) EllapsedTime: 166.1 seconds RetCode: 0 Status: OK PackageFile: pcaMethods_1.99.0.tar.gz PackageFileSize: 983.6 KiB