Package: pcaMethods Version: 1.99.0 Command: /home/biocbuild/R/R/bin/R CMD check --install=check:pcaMethods.install-out.txt --library=/home/biocbuild/R/R/site-library --no-vignettes --timings pcaMethods_1.99.0.tar.gz StartedAt: 2025-01-28 13:46:20 -0000 (Tue, 28 Jan 2025) EndedAt: 2025-01-28 13:48:45 -0000 (Tue, 28 Jan 2025) EllapsedTime: 145.1 seconds RetCode: 0 Status: OK CheckDir: pcaMethods.Rcheck Warnings: 0