Package: pcaMethods Version: 1.99.0 Command: /home/biocbuild/R/R/bin/R CMD INSTALL pcaMethods StartedAt: 2025-01-29 19:33:51 -0000 (Wed, 29 Jan 2025) EndedAt: 2025-01-29 19:34:11 -0000 (Wed, 29 Jan 2025) EllapsedTime: 19.9 seconds RetCode: 0 Status: OK