Package: pcaMethods Version: 1.99.0 Command: rm -rf pcaMethods.buildbin-libdir && mkdir pcaMethods.buildbin-libdir && /Users/biocbuild/BBS/utils/build-universal.sh pcaMethods_1.99.0.tar.gz /Library/Frameworks/R.framework/Resources/bin/R pcaMethods.buildbin-libdir StartedAt: 2025-02-10 01:07:49 -0500 (Mon, 10 Feb 2025) EndedAt: 2025-02-10 01:08:11 -0500 (Mon, 10 Feb 2025) EllapsedTime: 21.9 seconds RetCode: 0 Status: OK PackageFile: pcaMethods_1.99.0.tgz PackageFileSize: 1.436 MiB