Package: pcaMethods Version: 1.99.0 Command: /Library/Frameworks/R.framework/Resources/bin/R CMD check --install=check:pcaMethods.install-out.txt --library=/Library/Frameworks/R.framework/Resources/library --no-vignettes --timings pcaMethods_1.99.0.tar.gz StartedAt: 2025-02-09 22:35:26 -0500 (Sun, 09 Feb 2025) EndedAt: 2025-02-09 22:38:13 -0500 (Sun, 09 Feb 2025) EllapsedTime: 167.0 seconds RetCode: 0 Status: OK CheckDir: pcaMethods.Rcheck Warnings: 0