Package: pcaMethods Version: 1.99.0 Command: /home/biocbuild/bbs-3.21-bioc/R/bin/R CMD build --keep-empty-dirs --no-resave-data pcaMethods StartedAt: 2025-02-04 18:34:42 -0500 (Tue, 04 Feb 2025) EndedAt: 2025-02-04 18:36:31 -0500 (Tue, 04 Feb 2025) EllapsedTime: 109.1 seconds RetCode: 0 Status: OK PackageFile: pcaMethods_1.99.0.tar.gz PackageFileSize: 1017 KiB