Package: pcaMethods Version: 1.99.0 Command: /home/biocbuild/bbs-3.21-bioc/R/bin/R CMD check --install=check:pcaMethods.install-out.txt --library=/home/biocbuild/bbs-3.21-bioc/R/site-library --timings pcaMethods_1.99.0.tar.gz StartedAt: 2025-02-05 01:19:18 -0500 (Wed, 05 Feb 2025) EndedAt: 2025-02-05 01:22:27 -0500 (Wed, 05 Feb 2025) EllapsedTime: 189.2 seconds RetCode: 0 Status: OK CheckDir: pcaMethods.Rcheck Warnings: 0