Package: pcaMethods Version: 1.99.0 Command: /home/biocbuild/bbs-3.21-bioc/R/bin/R CMD INSTALL pcaMethods StartedAt: 2025-02-04 15:11:03 -0500 (Tue, 04 Feb 2025) EndedAt: 2025-02-04 15:11:18 -0500 (Tue, 04 Feb 2025) EllapsedTime: 14.4 seconds RetCode: 0 Status: OK