Package: pdInfoBuilder Version: 1.71.0 Command: /home/biocbuild/R/R/bin/R CMD INSTALL pdInfoBuilder StartedAt: 2025-01-29 19:53:11 -0000 (Wed, 29 Jan 2025) EndedAt: 2025-01-29 19:53:12 -0000 (Wed, 29 Jan 2025) EllapsedTime: 0.9 seconds RetCode: 1 Status: ERROR