Package: pdInfoBuilder Version: 1.71.0 Command: /Library/Frameworks/R.framework/Resources/bin/R CMD build --keep-empty-dirs --no-resave-data pdInfoBuilder StartedAt: 2025-02-04 17:48:21 -0500 (Tue, 04 Feb 2025) EndedAt: 2025-02-04 17:48:24 -0500 (Tue, 04 Feb 2025) EllapsedTime: 3.5 seconds RetCode: 1 Status: ERROR PackageFile: None PackageFileSize: NA