Package: pdInfoBuilder Version: 1.71.0 Command: /Library/Frameworks/R.framework/Resources/bin/R CMD INSTALL pdInfoBuilder StartedAt: 2025-02-04 15:17:08 -0500 (Tue, 04 Feb 2025) EndedAt: 2025-02-04 15:17:12 -0500 (Tue, 04 Feb 2025) EllapsedTime: 3.6 seconds RetCode: 1 Status: ERROR