############################################################################## ############################################################################## ### ### Running command: ### ### /home/biocbuild/bbs-3.21-bioc/R/bin/R CMD build --keep-empty-dirs --no-resave-data pdInfoBuilder ### ############################################################################## ############################################################################## * checking for file ‘pdInfoBuilder/DESCRIPTION’ ... OK * preparing ‘pdInfoBuilder’: * checking DESCRIPTION meta-information ... OK * cleaning src * installing the package to build vignettes ----------------------------------- ERROR: dependency ‘oligo’ is not available for package ‘pdInfoBuilder’ Perhaps try a variation of: install.packages('oligo') * removing ‘/tmp/Rtmp1loBjU/Rinst3e10e22e3b9870/pdInfoBuilder’ ----------------------------------- ERROR: package installation failed