Package: pdInfoBuilder Version: 1.71.0 Command: /home/biocbuild/bbs-3.21-bioc/R/bin/R CMD build --keep-empty-dirs --no-resave-data pdInfoBuilder StartedAt: 2025-02-04 18:34:57 -0500 (Tue, 04 Feb 2025) EndedAt: 2025-02-04 18:34:58 -0500 (Tue, 04 Feb 2025) EllapsedTime: 1.0 seconds RetCode: 1 Status: ERROR PackageFile: None PackageFileSize: NA