Package: pdInfoBuilder Version: 1.71.0 Command: /home/biocbuild/bbs-3.21-bioc/R/bin/R CMD check --install=check:pdInfoBuilder.install-out.txt --library=/home/biocbuild/bbs-3.21-bioc/R/site-library --timings pdInfoBuilder_1.71.0.tar.gz StartedAt: 2025-01-22 01:04:21 -0500 (Wed, 22 Jan 2025) EndedAt: 2025-01-22 01:07:13 -0500 (Wed, 22 Jan 2025) EllapsedTime: 172.2 seconds RetCode: 0 Status: OK CheckDir: pdInfoBuilder.Rcheck Warnings: 0