Package: pdInfoBuilder Version: 1.71.0 Command: /home/biocbuild/bbs-3.21-bioc/R/bin/R CMD INSTALL pdInfoBuilder StartedAt: 2025-02-04 15:19:01 -0500 (Tue, 04 Feb 2025) EndedAt: 2025-02-04 15:19:02 -0500 (Tue, 04 Feb 2025) EllapsedTime: 1.1 seconds RetCode: 1 Status: ERROR