Package: pdInfoBuilder Version: 1.71.0 Command: rm -rf pdInfoBuilder.buildbin-libdir && mkdir pdInfoBuilder.buildbin-libdir && E:\biocbuild\bbs-3.21-bioc\R\bin\R.exe CMD INSTALL --build --library=pdInfoBuilder.buildbin-libdir pdInfoBuilder_1.71.0.tar.gz StartedAt: 2025-02-05 08:33:49 -0500 (Wed, 05 Feb 2025) EndedAt: 2025-02-05 08:36:39 -0500 (Wed, 05 Feb 2025) EllapsedTime: 169.6 seconds RetCode: 0 Status: OK PackageFile: pdInfoBuilder_1.71.0.zip PackageFileSize: 837.5 KiB