Package: pdInfoBuilder Version: 1.71.0 Command: chmod a+r pdInfoBuilder -R && E:\biocbuild\bbs-3.21-bioc\R\bin\R.exe CMD build --keep-empty-dirs --no-resave-data pdInfoBuilder StartedAt: 2025-02-04 20:41:32 -0500 (Tue, 04 Feb 2025) EndedAt: 2025-02-04 20:42:18 -0500 (Tue, 04 Feb 2025) EllapsedTime: 45.7 seconds RetCode: 0 Status: OK PackageFile: pdInfoBuilder_1.71.0.tar.gz PackageFileSize: 348.1 KiB