Package: pdInfoBuilder Version: 1.71.0 Command: E:\biocbuild\bbs-3.21-bioc\R\bin\R.exe CMD check --no-multiarch --install=check:pdInfoBuilder.install-out.txt --library=E:\biocbuild\bbs-3.21-bioc\R\library --no-vignettes --timings pdInfoBuilder_1.71.0.tar.gz StartedAt: 2025-02-05 04:24:00 -0500 (Wed, 05 Feb 2025) EndedAt: 2025-02-05 04:27:40 -0500 (Wed, 05 Feb 2025) EllapsedTime: 220.3 seconds RetCode: 0 Status: OK CheckDir: pdInfoBuilder.Rcheck Warnings: 0