Package: peakPantheR Version: 1.21.0 Maintainer: Arnaud Wolfer MaintainerEmail: adwolfer at gmail.com git_url: https://git.bioconductor.org/packages/peakPantheR git_branch: devel git_last_commit: 4d6e977 git_last_commit_date: 2024-10-29 10:40:22 -0500 (Tue, 29 Oct 2024)