Package: peakPantheR Version: 1.21.0 Command: /Library/Frameworks/R.framework/Resources/bin/R CMD INSTALL peakPantheR StartedAt: 2025-02-09 15:18:47 -0500 (Sun, 09 Feb 2025) EndedAt: 2025-02-09 15:18:51 -0500 (Sun, 09 Feb 2025) EllapsedTime: 4.4 seconds RetCode: 0 Status: OK