Package: peakPantheR Version: 1.21.0 Command: /home/biocbuild/R/R/bin/R CMD build --keep-empty-dirs --no-resave-data peakPantheR StartedAt: 2025-01-29 01:14:10 -0000 (Wed, 29 Jan 2025) EndedAt: 2025-01-29 01:16:28 -0000 (Wed, 29 Jan 2025) EllapsedTime: 138.1 seconds RetCode: 0 Status: OK PackageFile: peakPantheR_1.21.0.tar.gz PackageFileSize: 4.117 MiB