Package: peakPantheR Version: 1.21.0 Command: /home/biocbuild/R/R/bin/R CMD check --install=check:peakPantheR.install-out.txt --library=/home/biocbuild/R/R/site-library --no-vignettes --timings peakPantheR_1.21.0.tar.gz StartedAt: 2025-01-28 13:47:55 -0000 (Tue, 28 Jan 2025) EndedAt: 2025-01-28 14:13:35 -0000 (Tue, 28 Jan 2025) EllapsedTime: 1540.5 seconds RetCode: 1 Status: ERROR CheckDir: peakPantheR.Rcheck Warnings: NA