Package: peakPantheR Version: 1.21.0 Command: /home/biocbuild/R/R/bin/R CMD INSTALL peakPantheR StartedAt: 2025-01-29 20:12:40 -0000 (Wed, 29 Jan 2025) EndedAt: 2025-01-29 20:12:56 -0000 (Wed, 29 Jan 2025) EllapsedTime: 15.7 seconds RetCode: 0 Status: OK