Package: peakPantheR Version: 1.21.0 Command: rm -rf peakPantheR.buildbin-libdir && mkdir peakPantheR.buildbin-libdir && /Users/biocbuild/BBS/utils/build-universal.sh peakPantheR_1.21.0.tar.gz /Library/Frameworks/R.framework/Resources/bin/R peakPantheR.buildbin-libdir StartedAt: 2025-02-10 01:07:53 -0500 (Mon, 10 Feb 2025) EndedAt: 2025-02-10 01:08:12 -0500 (Mon, 10 Feb 2025) EllapsedTime: 19.6 seconds RetCode: 0 Status: OK PackageFile: peakPantheR_1.21.0.tgz PackageFileSize: 4.33 MiB