Package: peakPantheR Version: 1.21.0 Command: /Library/Frameworks/R.framework/Resources/bin/R CMD check --install=check:peakPantheR.install-out.txt --library=/Library/Frameworks/R.framework/Resources/library --no-vignettes --timings peakPantheR_1.21.0.tar.gz StartedAt: 2025-02-09 22:36:42 -0500 (Sun, 09 Feb 2025) EndedAt: 2025-02-09 22:59:50 -0500 (Sun, 09 Feb 2025) EllapsedTime: 1388.1 seconds RetCode: 0 Status: OK CheckDir: peakPantheR.Rcheck Warnings: 0