Package: peakPantheR Version: 1.21.0 Command: /Library/Frameworks/R.framework/Resources/bin/R CMD INSTALL peakPantheR StartedAt: 2025-02-12 15:29:53 -0500 (Wed, 12 Feb 2025) EndedAt: 2025-02-12 15:30:09 -0500 (Wed, 12 Feb 2025) EllapsedTime: 16.1 seconds RetCode: 0 Status: OK