Package: peakPantheR Version: 1.21.0 Command: chmod a+r peakPantheR -R && E:\biocbuild\bbs-3.21-bioc\R\bin\R.exe CMD build --keep-empty-dirs --no-resave-data peakPantheR StartedAt: 2025-02-09 20:39:43 -0500 (Sun, 09 Feb 2025) EndedAt: 2025-02-09 20:42:03 -0500 (Sun, 09 Feb 2025) EllapsedTime: 139.4 seconds RetCode: 0 Status: OK PackageFile: peakPantheR_1.21.0.tar.gz PackageFileSize: 3.927 MiB