Package: peakPantheR Version: 1.21.0 Command: E:\biocbuild\bbs-3.21-bioc\R\bin\R.exe CMD check --no-multiarch --install=check:peakPantheR.install-out.txt --library=E:\biocbuild\bbs-3.21-bioc\R\library --no-vignettes --timings peakPantheR_1.21.0.tar.gz StartedAt: 2025-02-10 03:59:15 -0500 (Mon, 10 Feb 2025) EndedAt: 2025-02-10 04:23:13 -0500 (Mon, 10 Feb 2025) EllapsedTime: 1438.5 seconds RetCode: 0 Status: OK CheckDir: peakPantheR.Rcheck Warnings: 0