Package: pengls Version: 1.13.0 Command: /Library/Frameworks/R.framework/Resources/bin/R CMD build --keep-empty-dirs --no-resave-data pengls StartedAt: 2025-02-09 17:14:08 -0500 (Sun, 09 Feb 2025) EndedAt: 2025-02-09 17:15:09 -0500 (Sun, 09 Feb 2025) EllapsedTime: 60.7 seconds RetCode: 0 Status: OK PackageFile: pengls_1.13.0.tar.gz PackageFileSize: 61.78 KiB