Package: pengls Version: 1.13.0 Command: /home/biocbuild/bbs-3.21-bioc/R/bin/R CMD check --install=check:pengls.install-out.txt --library=/home/biocbuild/bbs-3.21-bioc/R/site-library --timings pengls_1.13.0.tar.gz StartedAt: 2025-02-13 01:13:57 -0500 (Thu, 13 Feb 2025) EndedAt: 2025-02-13 01:23:07 -0500 (Thu, 13 Feb 2025) EllapsedTime: 550.8 seconds RetCode: 0 Status: OK CheckDir: pengls.Rcheck Warnings: 0