Package: pengls Version: 1.13.0 Command: /home/biocbuild/bbs-3.21-bioc/R/bin/R CMD INSTALL pengls StartedAt: 2025-02-09 15:06:43 -0500 (Sun, 09 Feb 2025) EndedAt: 2025-02-09 15:07:19 -0500 (Sun, 09 Feb 2025) EllapsedTime: 35.7 seconds RetCode: 0 Status: OK