Package: pepStat Version: 1.41.0 Command: /Library/Frameworks/R.framework/Resources/bin/R CMD check --install=check:pepStat.install-out.txt --library=/Library/Frameworks/R.framework/Resources/library --no-vignettes --timings pepStat_1.41.0.tar.gz StartedAt: 2025-02-04 20:39:20 -0500 (Tue, 04 Feb 2025) EndedAt: 2025-02-04 20:40:10 -0500 (Tue, 04 Feb 2025) EllapsedTime: 49.7 seconds RetCode: 0 Status: OK CheckDir: pepStat.Rcheck Warnings: 0