Package: pepStat Version: 1.41.0 Command: /home/biocbuild/R/R/bin/R CMD build --keep-empty-dirs --no-resave-data pepStat StartedAt: 2025-01-29 01:15:12 -0000 (Wed, 29 Jan 2025) EndedAt: 2025-01-29 01:16:24 -0000 (Wed, 29 Jan 2025) EllapsedTime: 72.1 seconds RetCode: 0 Status: OK PackageFile: pepStat_1.41.0.tar.gz PackageFileSize: 423.8 KiB