Package: pepStat Version: 1.41.0 Command: /home/biocbuild/R/R/bin/R CMD INSTALL pepStat StartedAt: 2025-01-29 19:41:05 -0000 (Wed, 29 Jan 2025) EndedAt: 2025-01-29 19:41:27 -0000 (Wed, 29 Jan 2025) EllapsedTime: 22.8 seconds RetCode: 0 Status: OK