Package: pepStat Version: 1.41.0 Command: rm -rf pepStat.buildbin-libdir && mkdir pepStat.buildbin-libdir && /Users/biocbuild/BBS/utils/build-universal.sh pepStat_1.41.0.tar.gz /Library/Frameworks/R.framework/Resources/bin/R pepStat.buildbin-libdir StartedAt: 2025-02-05 00:54:06 -0500 (Wed, 05 Feb 2025) EndedAt: 2025-02-05 00:54:32 -0500 (Wed, 05 Feb 2025) EllapsedTime: 26.6 seconds RetCode: 0 Status: OK PackageFile: pepStat_1.41.0.tgz PackageFileSize: 735.9 KiB