Package: pepStat Version: 1.41.0 Command: /Library/Frameworks/R.framework/Resources/bin/R CMD check --install=check:pepStat.install-out.txt --library=/Library/Frameworks/R.framework/Resources/library --no-vignettes --timings pepStat_1.41.0.tar.gz StartedAt: 2025-02-09 22:38:13 -0500 (Sun, 09 Feb 2025) EndedAt: 2025-02-09 22:40:52 -0500 (Sun, 09 Feb 2025) EllapsedTime: 159.5 seconds RetCode: 0 Status: OK CheckDir: pepStat.Rcheck Warnings: 0