Package: pepStat Version: 1.41.0 Command: /Library/Frameworks/R.framework/Resources/bin/R CMD INSTALL pepStat StartedAt: 2025-02-09 15:11:14 -0500 (Sun, 09 Feb 2025) EndedAt: 2025-02-09 15:11:41 -0500 (Sun, 09 Feb 2025) EllapsedTime: 27.8 seconds RetCode: 0 Status: OK