Package: pepStat Version: 1.41.0 Command: /home/biocbuild/bbs-3.21-bioc/R/bin/R CMD build --keep-empty-dirs --no-resave-data pepStat StartedAt: 2025-02-09 18:38:20 -0500 (Sun, 09 Feb 2025) EndedAt: 2025-02-09 18:39:13 -0500 (Sun, 09 Feb 2025) EllapsedTime: 53.1 seconds RetCode: 0 Status: OK PackageFile: pepStat_1.41.0.tar.gz PackageFileSize: 320 KiB